{ "currentVersion": 11.3, "cimVersion": "3.3.0", "serviceDescription": "
Dark Gray Tile Basemap for the State of Delaware. Delaware State plane NAD 82 Meters Spatial Reference.<\/SPAN><\/P><\/DIV>",
"mapName": "DE_Basemap_DarkGray_SP",
"description": " Dark Gray Tile Basemap for the State of Delaware. Delaware State plane NAD 82 Meters Spatial Reference.<\/SPAN><\/P><\/DIV>",
"copyrightText": "",
"supportsDynamicLayers": true,
"layers": [
{
"id": 0,
"name": "State Boundary",
"parentLayerId": -1,
"defaultVisibility": true,
"subLayerIds": null,
"minScale": 9244648.868618,
"maxScale": 0,
"type": "Feature Layer",
"geometryType": "esriGeometryPolygon",
"supportsDynamicLegends": true
},
{
"id": 1,
"name": "County Major Roads",
"parentLayerId": -1,
"defaultVisibility": true,
"subLayerIds": null,
"minScale": 1024000,
"maxScale": 0,
"type": "Feature Layer",
"geometryType": "esriGeometryPolyline",
"supportsDynamicLegends": true
},
{
"id": 2,
"name": "Rail Lines",
"parentLayerId": -1,
"defaultVisibility": true,
"subLayerIds": null,
"minScale": 512000,
"maxScale": 0,
"type": "Feature Layer",
"geometryType": "esriGeometryPolyline",
"supportsDynamicLegends": true
},
{
"id": 3,
"name": "Roads",
"parentLayerId": -1,
"defaultVisibility": true,
"subLayerIds": null,
"minScale": 128000,
"maxScale": 0,
"type": "Feature Layer",
"geometryType": "esriGeometryPolyline",
"supportsDynamicLegends": true
},
{
"id": 4,
"name": "Major Rivers",
"parentLayerId": -1,
"defaultVisibility": true,
"subLayerIds": null,
"minScale": 500000,
"maxScale": 0,
"type": "Feature Layer",
"geometryType": "esriGeometryPolyline",
"supportsDynamicLegends": true
},
{
"id": 5,
"name": "Streams",
"parentLayerId": -1,
"defaultVisibility": true,
"subLayerIds": null,
"minScale": 64000,
"maxScale": 0,
"type": "Feature Layer",
"geometryType": "esriGeometryPolyline",
"supportsDynamicLegends": true
},
{
"id": 6,
"name": "Rivers, Lakes, Bays",
"parentLayerId": -1,
"defaultVisibility": true,
"subLayerIds": null,
"minScale": 256000,
"maxScale": 0,
"type": "Feature Layer",
"geometryType": "esriGeometryPolygon",
"supportsDynamicLegends": true
},
{
"id": 7,
"name": "Communities",
"parentLayerId": -1,
"defaultVisibility": true,
"subLayerIds": null,
"minScale": 16000,
"maxScale": 0,
"type": "Feature Layer",
"geometryType": "esriGeometryPolygon",
"supportsDynamicLegends": true
},
{
"id": 13,
"name": "Protected Lands",
"parentLayerId": -1,
"defaultVisibility": true,
"subLayerIds": null,
"minScale": 256000,
"maxScale": 0,
"type": "Feature Layer",
"geometryType": "esriGeometryPolygon",
"supportsDynamicLegends": true
},
{
"id": 14,
"name": "Municipalities",
"parentLayerId": -1,
"defaultVisibility": true,
"subLayerIds": null,
"minScale": 8192000,
"maxScale": 0,
"type": "Feature Layer",
"geometryType": "esriGeometryPolygon",
"supportsDynamicLegends": true
},
{
"id": 15,
"name": "Surrounding States",
"parentLayerId": -1,
"defaultVisibility": true,
"subLayerIds": null,
"minScale": 8192000,
"maxScale": 0,
"type": "Feature Layer",
"geometryType": "esriGeometryPolygon",
"supportsDynamicLegends": true
}
],
"tables": [],
"spatialReference": {
"wkid": 26957,
"latestWkid": 26957,
"xyTolerance": 0.001,
"zTolerance": 0.001,
"mTolerance": 0.001,
"falseX": -5423100,
"falseY": -14209500,
"xyUnits": 10000,
"falseZ": -100000,
"zUnits": 10000,
"falseM": -100000,
"mUnits": 10000
},
"singleFusedMapCache": true,
"tileInfo": {
"rows": 512,
"cols": 512,
"dpi": 96,
"format": "PNG",
"compressionQuality": 0,
"origin": {
"x": -5423100,
"y": 5794600
},
"spatialReference": {
"wkid": 26957,
"latestWkid": 26957,
"xyTolerance": 0.001,
"zTolerance": 0.001,
"mTolerance": 0.001,
"falseX": -5423100,
"falseY": -14209500,
"xyUnits": 10000,
"falseZ": -100000,
"zUnits": 10000,
"falseM": -100000,
"mUnits": 10000
},
"lods": [
{
"level": 0,
"resolution": 2116.670900008467,
"scale": 8000000
},
{
"level": 1,
"resolution": 1058.3354500042335,
"scale": 4000000
},
{
"level": 2,
"resolution": 529.1677250021168,
"scale": 2000000
},
{
"level": 3,
"resolution": 264.5838625010584,
"scale": 1000000
},
{
"level": 4,
"resolution": 132.2919312505292,
"scale": 500000
},
{
"level": 5,
"resolution": 66.1459656252646,
"scale": 250000
},
{
"level": 6,
"resolution": 33.0729828126323,
"scale": 125000
},
{
"level": 7,
"resolution": 16.53649140631615,
"scale": 62500
},
{
"level": 8,
"resolution": 8.268245703158074,
"scale": 31250
},
{
"level": 9,
"resolution": 4.134122851579037,
"scale": 15625
},
{
"level": 10,
"resolution": 2.0670614257895186,
"scale": 7812.5
},
{
"level": 11,
"resolution": 1.0335307128947593,
"scale": 3906.25
},
{
"level": 12,
"resolution": 0.5167653564473796,
"scale": 1953.125
},
{
"level": 13,
"resolution": 0.2583826782236898,
"scale": 976.5625
},
{
"level": 14,
"resolution": 0.1291913391118449,
"scale": 488.28125
}
]
},
"storageInfo": {
"storageFormat": "esriMapCacheStorageModeCompactV2",
"packetSize": 128
},
"initialExtent": {
"xmin": -35291.2057729252,
"ymin": -19503.376686548203,
"xmax": 399966.96113398334,
"ymax": 298001.91113750916,
"spatialReference": {
"wkid": 26957,
"latestWkid": 26957,
"xyTolerance": 0.001,
"zTolerance": 0.001,
"mTolerance": 0.001,
"falseX": -5423100,
"falseY": -14209500,
"xyUnits": 10000,
"falseZ": -100000,
"zUnits": 10000,
"falseM": -100000,
"mUnits": 10000
}
},
"fullExtent": {
"xmin": -539676.9218,
"ymin": -160748.6866,
"xmax": 1063297.32469638,
"ymax": 488360.506400002,
"spatialReference": {
"wkid": 26957,
"latestWkid": 26957,
"xyTolerance": 0.001,
"zTolerance": 0.001,
"mTolerance": 0.001,
"falseX": -5423100,
"falseY": -14209500,
"xyUnits": 10000,
"falseZ": -100000,
"zUnits": 10000,
"falseM": -100000,
"mUnits": 10000
}
},
"datesInUnknownTimezone": false,
"minScale": 2000000,
"maxScale": 488.28125,
"units": "esriMeters",
"supportedImageFormatTypes": "PNG32,PNG24,PNG,JPG,DIB,TIFF,EMF,PS,PDF,GIF,SVG,SVGZ,BMP",
"documentInfo": {
"Title": "Map1",
"Author": "",
"Comments": " Dark Gray Tile Basemap for the State of Delaware. Delaware State plane NAD 82 Meters Spatial Reference.<\/SPAN><\/P><\/DIV>",
"Subject": "Dark Gray Image Tile Basemap for the State of Delaware\nImage Service - Used for building Cache Tiles",
"Category": "",
"Version": "3.1.0",
"AntialiasingMode": "Fast",
"TextAntialiasingMode": "Force",
"Keywords": "Firstmap,basemap"
},
"supportsQueryDomains": true,
"capabilities": "Map,Query,Data",
"supportedQueryFormats": "JSON, geoJSON, PBF",
"exportTilesAllowed": false,
"referenceScale": 0.0,
"supportsDatumTransformation": true,
"floorAwareMapProperties": {
"defaultFloorFilterSettings": {"isEnabled": false}
},
"archivingInfo": {"supportsHistoricMoment": false},
"supportsClipping": true,
"supportsSpatialFilter": true,
"supportsTimeRelation": true,
"supportsQueryDataElements": true,
"mapUnits": {"uwkid": 9001},
"maxRecordCount": 2000,
"maxImageHeight": 4096,
"maxImageWidth": 4096,
"supportedExtensions": "",
"serviceItemId": "7547b130464a4223ae1a48bf70ec6ca1"
}